BEGIN:VCALENDAR
VERSION:2.0
PRODID:-//TaSeMo - ECPv6.15.20//NONSGML v1.0//EN
CALSCALE:GREGORIAN
METHOD:PUBLISH
X-WR-CALNAME:TaSeMo
X-ORIGINAL-URL:https://tasemo.fi
X-WR-CALDESC:Tapahtumat TaSeMo
REFRESH-INTERVAL;VALUE=DURATION:PT1H
X-Robots-Tag:noindex
X-PUBLISHED-TTL:PT1H
BEGIN:VTIMEZONE
TZID:Europe/Helsinki
BEGIN:DAYLIGHT
TZOFFSETFROM:+0200
TZOFFSETTO:+0300
TZNAME:EEST
DTSTART:20240331T010000
END:DAYLIGHT
BEGIN:STANDARD
TZOFFSETFROM:+0300
TZOFFSETTO:+0200
TZNAME:EET
DTSTART:20241027T010000
END:STANDARD
BEGIN:DAYLIGHT
TZOFFSETFROM:+0200
TZOFFSETTO:+0300
TZNAME:EEST
DTSTART:20250330T010000
END:DAYLIGHT
BEGIN:STANDARD
TZOFFSETFROM:+0300
TZOFFSETTO:+0200
TZNAME:EET
DTSTART:20251026T010000
END:STANDARD
BEGIN:DAYLIGHT
TZOFFSETFROM:+0200
TZOFFSETTO:+0300
TZNAME:EEST
DTSTART:20260329T010000
END:DAYLIGHT
BEGIN:STANDARD
TZOFFSETFROM:+0300
TZOFFSETTO:+0200
TZNAME:EET
DTSTART:20261025T010000
END:STANDARD
END:VTIMEZONE
BEGIN:VEVENT
DTSTART;TZID=Europe/Helsinki:20250521T170000
DTEND;TZID=Europe/Helsinki:20250521T180000
DTSTAMP:20260425T134830
CREATED:20250511T194154Z
LAST-MODIFIED:20250511T194154Z
UID:241605-1747846800-1747850400@tasemo.fi
SUMMARY:Metsään-tärppi\, Tunnista metsätuhot
DESCRIPTION:Aika: 21.5.2025 klo 17:00 – 21.5.2025 klo 18:00\nPaikka: Teams\nIlmoittautuminen päättyy: 19.5.2025 klo 23:00 (lomake tapahtuman kotisivulla)\nKenelle: Tilaisuus on suunnattu kaikille metsäasioista kiinnostuneille ja sisältö on ymmärrettävää ilman metsäalan koulutusta tai kokemusta.\n\nTapahtumassa saat vinkkejä juurikääpä- ja kirjanpainajatuhojen tunnistamiseen ja torjuntaan. Kuulet myös\, kuinka lahopuuta lisätään metsiin metsätuhoriskit huomioiden. Lisäksi saat vinkkejä metsätuhojen tunnistamisen omatoimiseen opiskeluun. \n\nMetsään-tärppi\, Tunnista metsätuhot webinaarin toteutuksessa on mukana Ilmastokestävyyttä Lounais-Suomen metsiin-hanke. Hanke on saanut EU:n maaseuturahoitusta.\n\nMetsään-tärppi tilaisuudessa kuulet asiantuntijoidemme vinkit metsäisistä teemoista.\n\nMetsään-tärppi tilaisuuksia järjestetään noin kuukauden välein. Kunkin Metsään-tärppi tilaisuuden aihe tarkentuu viimeistään 2 viikkoa ennen tapahtumaa.\n\n\nIlmoittautuminen ja hinta\n\n\n\nIlmoittaudu viimeistään 19.5.2025 klo 23:00 tapahtuman kotisivun lomakkeella. Tilaisuus on osallistujalle maksuton.\n\n\nSaat tarkempia osallistumisohjeita sisältävän tervetuloa-viestin sähköpostiisi tilaisuuspäivän aamuna. Tarkistathan myös roskapostikansion. Jos viestiä ei löydy\, ole yhteydessä tilaisuuden järjestäjään.\n\nTulevat Metsään-koulutukset näet tapahtumakalenteristamme.\n\nMetsään-tärppi tilaisuus tallennetaan. Tallennelinkki toimitetaan ilmoittautuneille ja tallenne on katsottavissa 2 viikkoa.\n\n\n\nLisätietoja\nHenna Höglund\np. 050 514 6542\nhenna.hoglund@metsakeskus.fi\nSuomen metsäkeskus
URL:https://tasemo.fi/tapahtuma/metsaan-tarppi-tunnista-metsatuhot/
LOCATION:Webinaari
ORGANIZER;CN="Suomen Mets%C3%A4keskus":MAILTO:asiakastuki@metsakeskus.fi
END:VEVENT
END:VCALENDAR